Workbook

Sheet Instruccions
A1: Autoavaluació del comerç municipal
A3: Com utilitzar l'autoavaluació | D3: Com utilitzar l’autoavaluació
A4: Objectiu | B4: Ajudar a conèixer quina és la situació del comerç del municipi i quina informació manca per poder actuar en la seva millora i ajuda.
A5: Àmbits | B5: Cens de l’activitat comercial Activitat i clima comercial Hàbits de compra de la població Diagnosi comercial i Pla d’acció Pilars essencials del comerç de proximitat
A6: Ús | B6: A la pestanya Autoavaluació, cada pregunta ocupa un únic bloc de files. Les possibles respostes apareixen en files separades i la cel·la de puntuació és editable.
A7: Interpretació de les respostes i semàfor de colors | B7: Respostes: 1 (vermell): A desenvolupar. 2 (taronja): Poc desenvolupat, cal reforçar. 3 (verd fluix): Força desenvolupat, cal reforçar. 4 (verd fort): Consolidat.
A8: Nota | B8: Les preguntes amb quatre respostes es mostren com 1, 2, 3 i 4. Les preguntes amb tres respostes es mostren com 1, 2-3 i 4.

Sheet Autoavaluació
A1: Autoavaluació comercial municipal
A2: Seleccioneu la puntuació corresponent a una de les possibles respostes (entre 1 i 4) i indiqueu-la a la columna "Puntuació". Cada pregunta ocupa un únic bloc de files.
A4: Codi | B4: Pregunta | C4: Possibles respostes | D4: Puntuació | E4: Nivell | F4: Comentaris | G4: Directrius | H4: Per saber-ne més
A5: 1. Cens de l’activitat comercial
A6: 1.1 | B6: Es disposa d’un cens de l’activitat comercial del municipi? | C6: 1: No es disposa d’un cens de l’activitat comercial. | E6: =IF(D6="","",IF(D6=1,"A desenvolupar - No es disposa encara de la informació o eines necessàries per fer una bona anàlisi.",IF(D6<4,"A reforçar - Es disposa d’informació o eines, però encara hi ha aspectes que cal millorar, actualitzar o sistematitzar.","Consolidat - Es disposa d’una bona base d’informació i anàlisi en aquest àmbit."))) | G6: En cas de no disposar d’un cens comercial o comptar-ne amb un de molt desactualitzat, us manca informació bàsica per conèixer i analitzar l’estructura comercial del municipi. Serà necessari realitzar un cens o bé actualitzar-lo. | H6: Reviseu l’apartat 4.1.1. El cens comercial
C7: 2: Es té informació parcial o antiga.
C8: 3: Es disposa d’un cens, però no es manté actualitzat regularment.
C9: 4: Es disposa d’un cens actualitzat i es revisa periòdicament.
A10: 1.2 | B10: Es coneix quina és la distribució del comerç dins de l’espai urbà del municipi? | C10: 1: No es té identificat. | E10: =IF(D10="","",IF(D10=1,"A desenvolupar - No es disposa encara de la informació o eines necessàries per fer una bona anàlisi.",IF(D10<4,"A reforçar - Es disposa d’informació o eines, però encara hi ha aspectes que cal millorar, actualitzar o sistematitzar.","Consolidat - Es disposa d’una bona base d’informació i anàlisi en aquest àmbit."))) | G10: És important conèixer on s’ubiquen els comerços del municipi, per així identificar on es concentra l’activitat comercial i ubicar les zones clau d’actuació. | H10: Reviseu l’apartat 4.1.1. El cens comercial
C11: 2: Es coneix la informació de les principals zones, però manca una visió completa.
C12: 3: Es disposa de la informació, però no s’analitza periòdicament.
C13: 4: Es coneix la distribució comercial i és una informació que es pren en consideració durant la presa de decisions.
A14: 1.3 | B14: Es coneixen quins sectors i activitats comercials són presents dins del municipi? | C14: 1: No es disposa d’aquesta informació. | E14: =IF(D14="","",IF(D14=1,"A desenvolupar - No es disposa encara de la informació o eines necessàries per fer una bona anàlisi.",IF(D14<4,"A reforçar - Es disposa d’informació o eines, però encara hi ha aspectes que cal millorar, actualitzar o sistematitzar.","Consolidat - Es disposa d’una bona base d’informació i anàlisi en aquest àmbit."))) | G14: Conèixer la composició total de l’oferta comercial d’un municipi permet detectar mancances i desequilibris. | H14: Reviseu l’apartat 4.1.1. El cens comercial · Principals indicadors comercials
C15: 2-3: Es coneixen els principals sectors, però no es disposa de l’oferta comercial.
C16: 4: Es disposa de la informació i s’analitzen les seves implicacions.
A17: 1.4 | B17: Es disposa d’un cens dels locals comercials buits? | C17: 1: No es disposa d’un cens de locals comercials buits. | E17: =IF(D17="","",IF(D17=1,"A desenvolupar - No es disposa encara de la informació o eines necessàries per fer una bona anàlisi.",IF(D17<4,"A reforçar - Es disposa d’informació o eines, però encara hi ha aspectes que cal millorar, actualitzar o sistematitzar.","Consolidat - Es disposa d’una bona base d’informació i anàlisi en aquest àmbit."))) | G17: Els locals buits formen part de la realitat de l’estructura comercial i cal conèixer-los per poder valorar-ne l’impacte i les possibilitats d’activació. | H17: Reviseu els apartats 4.1.1. El cens comercial · 5.5. Locals comercials buits
C18: 2: Es tenen identificats alguns locals buits, però no es disposa d’un inventari complet.
C19: 3: Es disposa d’un cens, però no s’actualitza periòdicament ni es coneix la situació de mercat dels establiments (sense informació, venda, lloguer...).
C20: 4: Es disposa d’un cens de locals buits actualitzat i amb informació completa dels locals (situació de mercat, estat de conservació, contacte de la propietat...).
A21: 1.5 | B21: S’utilitzen indicadors comercials per interpretar l’oferta del municipi? | C21: 1: No es disposa de les dades necessàries per calcular els indicadors. | E21: =IF(D21="","",IF(D21=1,"A desenvolupar - No es disposa encara de la informació o eines necessàries per fer una bona anàlisi.",IF(D21<4,"A reforçar - Es disposa d’informació o eines, però encara hi ha aspectes que cal millorar, actualitzar o sistematitzar.","Consolidat - Es disposa d’una bona base d’informació i anàlisi en aquest àmbit."))) | G21: Les dades obtingudes a partir de la realització d’un cens comercial poden ser útils més enllà de la identificació de sectors i ubicacions. El càlcul dels indicadors comercials permet interpretar l’evolució del sector i les característiques de l’oferta comercial. | H21: Reviseu els apartats 4.1.1. El cens comercial · Principals indicadors comercials
C22: 2-3: Es disposa d’un cens comercial complet, però no es realitza el càlcul d’indicadors.
C23: 4: Es calculen i utilitzen els indicadors de manera sistemàtica per interpretar i conèixer la situació del comerç del municipi i de la seva evolució.
A24: 2. Activitat i clima comercial
A25: 2.1 | B25: Es coneix l’antiguitat i l’edat de les persones titulars dels negocis? | C25: 1: No es disposa d’aquesta informació. | E25: =IF(D25="","",IF(D25=1,"A desenvolupar - No es disposa encara de la informació o eines necessàries per fer una bona anàlisi.",IF(D25<4,"A reforçar - Es disposa d’informació o eines, però encara hi ha aspectes que cal millorar, actualitzar o sistematitzar.","Consolidat - Es disposa d’una bona base d’informació i anàlisi en aquest àmbit."))) | G25: Conèixer l’antiguitat dels negocis, així com l’edat de la propietat, pot ajudar a preveure tendències, anticipar tancaments o identificar comerços que s’han de buscar conservar per la seva integració històrica o social al municipi. | H25: Reviseu l’apartat 4.1.2. L’anàlisi del clima comercial
C26: 2: Es coneix només en alguns casos.
C27: 3: Es disposa d’aquesta informació, però no és emprada.
C28: 4: Es coneix i s’utilitza per detectar possibles tancaments, necessitats del sector o negocis amb gran valor històric, entre d’altres.
A29: 2.2 | B29: Es tenen identificades possibles situacions en què és necessari un relleu de negoci? | C29: 1: No. | E29: =IF(D29="","",IF(D29=1,"A desenvolupar - No es disposa encara de la informació o eines necessàries per fer una bona anàlisi.",IF(D29<4,"A reforçar - Es disposa d’informació o eines, però encara hi ha aspectes que cal millorar, actualitzar o sistematitzar.","Consolidat - Es disposa d’una bona base d’informació i anàlisi en aquest àmbit."))) | G29: El relleu és un dels elements que pot condicionar la continuïtat d’un mix comercial divers i arrelat al municipi, fent necessari disposar de mesures o brindar acompanyament a aquells comerços propers al tancament. | H29: Reviseu els apartats 4.1.2. L’anàlisi del clima comercial · 5.8. Emprenedoria i innovació
C30: 2-3: Només es coneixen casos puntuals.
C31: 4: Es busca donar acompanyament als casos de negocis en traspàs.
A32: 2.3 | B32: Es coneix el nivell de digitalització dels comerços del municipi? | C32: 1: No es disposa d’aquesta informació. | E32: =IF(D32="","",IF(D32=1,"A desenvolupar - No es disposa encara de la informació o eines necessàries per fer una bona anàlisi.",IF(D32<4,"A reforçar - Es disposa d’informació o eines, però encara hi ha aspectes que cal millorar, actualitzar o sistematitzar.","Consolidat - Es disposa d’una bona base d’informació i anàlisi en aquest àmbit."))) | G32: El nivell de digitalització dels comerços és un dels indicadors clau per entendre la salut i competitivitat del teixit comercial, així com la seva preparació de cara al futur. | H32: Reviseu els apartats 4.1.2. L’anàlisi del clima comercial · 5.2. El comerç de proximitat davant el repte digital
C33: 2: Es té una percepció general, però no dades concretes.
C34: 3: Es disposa d’informació parcial (només d’alguns comerços o sectors).
C35: 4: Es coneix el grau de digitalització del conjunt del teixit comercial i s’utilitza per orientar accions de suport.
A36: 3. Hàbits de compra de la població
A37: 3.1 | B37: Coneixem els hàbits de compra de la població? | C37: 1: No se’n té coneixement. | E37: =IF(D37="","",IF(D37=1,"A desenvolupar - No es disposa encara de la informació o eines necessàries per fer una bona anàlisi.",IF(D37<4,"A reforçar - Es disposa d’informació o eines, però encara hi ha aspectes que cal millorar, actualitzar o sistematitzar.","Consolidat - Es disposa d’una bona base d’informació i anàlisi en aquest àmbit."))) | G37: Sense conèixer els hàbits de compra és difícil valorar si l’oferta actual respon a la demanda. | H37: Reviseu l’apartat 4.1.3. L’anàlisi dels hàbits de compra de la població
C38: 2-3: Es disposa d’alguna informació, però és parcial o antiga.
C39: 4: Es disposa d’informació actualitzada sobre els hàbits de compra.
A40: 3.2 | B40: Es coneix el grau de satisfacció de la població amb el comerç del municipi? | C40: 1: No es coneix. | E40: =IF(D40="","",IF(D40=1,"A desenvolupar - No es disposa encara de la informació o eines necessàries per fer una bona anàlisi.",IF(D40<4,"A reforçar - Es disposa d’informació o eines, però encara hi ha aspectes que cal millorar, actualitzar o sistematitzar.","Consolidat - Es disposa d’una bona base d’informació i anàlisi en aquest àmbit."))) | G40: La satisfacció de la població ajuda a entendre com es percep l’oferta comercial existent. | H40: Reviseu l’apartat 4.1.3. L’anàlisi dels hàbits de compra de la població
C41: 2: Es tenen algunes percepcions, però no es disposa de dades.
...

Sheet Resultats
A1: Resultats de l’autoavaluació per blocs
A3: Bloc | B3: Respostes | C3: Puntuació | D3: Màxim | E3: % assoliment | F3: Nivell
A4: 1. Cens de l’activitat comercial | B4: =COUNT(Autoavaluació!D6,Autoavaluació!D10,Autoavaluació!D14,Autoavaluació!D17,Autoavaluació!D21) -> 0 | C4: =SUM(Autoavaluació!D6,Autoavaluació!D10,Autoavaluació!D14,Autoavaluació!D17,Autoavaluació!D21) -> 0 | D4: 20 | E4: =IFERROR(C4/D4,0) -> 0 | F4: =IF(E4=0%,"Sense dades",IF(C4/B4=1,"A desenvolupar",IF(C4<D4,"A reforçar",IF(E4=100%,"Consolidat")))) -> Sense dades
A5: 2. Activitat i clima comercial | B5: =COUNT(Autoavaluació!D25,Autoavaluació!D29,Autoavaluació!D32) -> 0 | C5: =SUM(Autoavaluació!D25,Autoavaluació!D29,Autoavaluació!D32) -> 0 | D5: 12 | E5: =IFERROR(C5/D5,0) -> 0 | F5: =IF(E5=0%,"Sense dades",IF(C5/B5=1,"A desenvolupar",IF(C5<D5,"A reforçar",IF(E5=100%,"Consolidat")))) -> Sense dades
A6: 3. Hàbits de compra de la població | B6: =COUNT(Autoavaluació!D37,Autoavaluació!D40,Autoavaluació!D44) -> 0 | C6: =SUM(Autoavaluació!D37,Autoavaluació!D40,Autoavaluació!D44) -> 0 | D6: 12 | E6: =IFERROR(C6/D6,0) -> 0 | F6: =IF(E6=0%,"Sense dades",IF(C6/B6=1,"A desenvolupar",IF(C6<D6,"A reforçar",IF(E6=100%,"Consolidat")))) -> Sense dades
A7: 4. Diagnosi comercial i Pla d’acció | B7: =COUNT(Autoavaluació!D49,Autoavaluació!D52,Autoavaluació!D56,Autoavaluació!D60,Autoavaluació!D64) -> 0 | C7: =SUM(Autoavaluació!D49,Autoavaluació!D52,Autoavaluació!D56,Autoavaluació!D60,Autoavaluació!D64) -> 0 | D7: 20 | E7: =IFERROR(C7/D7,0) -> 0 | F7: =IF(E7=0%,"Sense dades",IF(C7/B7=1,"A desenvolupar",IF(C7<D7,"A reforçar",IF(E7=100%,"Consolidat")))) -> Sense dades
A8: 5. Pilars essencials del comerç de proximitat | B8: =COUNT(Autoavaluació!D68,Autoavaluació!D72,Autoavaluació!D76,Autoavaluació!D79,Autoavaluació!D83,Autoavaluació!D87,Autoavaluació!D91) -> 0 | C8: =SUM(Autoavaluació!D68,Autoavaluació!D72,Autoavaluació!D76,Autoavaluació!D79,Autoavaluació!D83,Autoavaluació!D87,Autoavaluació!D91) -> 0 | D8: 28 | E8: =IFERROR(C8/D8,0) -> 0 | F8: =IF(E8=0%,"Sense dades",IF(C8/B8=1,"A desenvolupar",IF(C8<D8,"A reforçar",IF(E8=100%,"Consolidat")))) -> Sense dades
A10: RESULTAT GLOBAL | B10: =COUNT(Autoavaluació!D6,Autoavaluació!D10,Autoavaluació!D14,Autoavaluació!D17,Autoavaluació!D21,Autoavaluació!D25,Autoavaluació!D29,Autoavaluació!D32,Autoavaluació!D37,Autoavaluació!D40,Autoavaluació!D44,Autoavaluació!D49,Autoavaluació!D52,Autoavaluació!D56,Autoavaluació!D60,Autoavaluació!D64,Autoavaluació!D68,Autoavaluació!D72,Autoavaluació!D76,Autoavaluació!D79,Autoavaluació!D83,Autoavaluació!D87,Autoavaluació!D91) -> 0 | C10: =SUM(Autoavaluació!D6,Autoavaluació!D10,Autoavaluació!D14,Autoavaluació!D17,Autoavaluació!D21,Autoavaluació!D25,Autoavaluació!D29,Autoavaluació!D32,Autoavaluació!D37,Autoavaluació!D40,Autoavaluació!D44,Autoavaluació!D49,Autoavaluació!D52,Autoavaluació!D56,Autoavaluació!D60,Autoavaluació!D64,Autoavaluació!D68,Autoavaluació!D72,Autoavaluació!D76,Autoavaluació!D79,Autoavaluació!D83,Autoavaluació!D87,Autoavaluació!D91) -> 0 | D10: 92 | E10: =IFERROR(C10/D10,0) -> 0 | F10: =IF(E10=0%,"Sense dades",IF(C10/B10=1,"A desenvolupar",IF(C10<D10,"A reforçar",IF(E10=100%,"Consolidat")))) -> Sense dades

Sheet Priorització
A1: Priorització d'actuacions
A3: Núm. | B3: Actuació | C3: Bloc vinculat | D3: Impacte (1-4) | E3: Urgència (1-4) | F3: Facilitat (1-4) | G3: Cost (1-4) | H3: Puntuació prioritat | I3: Responsable | J3: Calendari | K3: Indicador de seguiment
A4: 1 | H4: =IF(COUNT(D4:G4)=0,"",D4+E4+F4-G4)
A5: 2 | H5: =IF(COUNT(D5:G5)=0,"",D5+E5+F5-G5)
A6: 3 | H6: =IF(COUNT(D6:G6)=0,"",D6+E6+F6-G6)
A7: 4 | H7: =IF(COUNT(D7:G7)=0,"",D7+E7+F7-G7)
A8: 5 | H8: =IF(COUNT(D8:G8)=0,"",D8+E8+F8-G8)
A9: 6 | H9: =IF(COUNT(D9:G9)=0,"",D9+E9+F9-G9)
A10: 7 | H10: =IF(COUNT(D10:G10)=0,"",D10+E10+F10-G10)
A11: 8 | H11: =IF(COUNT(D11:G11)=0,"",D11+E11+F11-G11)
A12: 9 | H12: =IF(COUNT(D12:G12)=0,"",D12+E12+F12-G12)
A13: 10 | H13: =IF(COUNT(D13:G13)=0,"",D13+E13+F13-G13)
A14: 11 | H14: =IF(COUNT(D14:G14)=0,"",D14+E14+F14-G14)
A15: 12 | H15: =IF(COUNT(D15:G15)=0,"",D15+E15+F15-G15)
... A23: 20 | H23: =IF(COUNT(D23:G23)=0,"",D23+E23+F23-G23)
